BEGIN:VCALENDAR
VERSION:2.0
PRODID:-//Vedanta Brisbane - ECPv6.12.0//NONSGML v1.0//EN
CALSCALE:GREGORIAN
METHOD:PUBLISH
X-ORIGINAL-URL:https://vedantabrisbane.org
X-WR-CALDESC:Events for Vedanta Brisbane
REFRESH-INTERVAL;VALUE=DURATION:PT1H
X-Robots-Tag:noindex
X-PUBLISHED-TTL:PT1H
BEGIN:VTIMEZONE
TZID:UTC
BEGIN:STANDARD
TZOFFSETFROM:+0000
TZOFFSETTO:+0000
TZNAME:UTC
DTSTART:20250101T000000
END:STANDARD
END:VTIMEZONE
BEGIN:VEVENT
DTSTART;TZID=UTC:20250817T100000
DTEND;TZID=UTC:20250817T110000
DTSTAMP:20260419T211606
CREATED:20250811T080342Z
LAST-MODIFIED:20250811T080342Z
UID:6448-1755424800-1755428400@vedantabrisbane.org
SUMMARY:Yoga for Kids (4 Weeks Course)
DESCRIPTION:
URL:https://vedantabrisbane.org/event/yoga-for-kids-4-weeks-course-2/
LOCATION:Vedanta Centre Brisbane\, 96 Vedanta Drive\, Springfield Lakes\, QLD\, 4300\, Australia
END:VEVENT
BEGIN:VEVENT
DTSTART;TZID=UTC:20250817T083000
DTEND;TZID=UTC:20250817T094500
DTSTAMP:20260419T211606
CREATED:20250702T041509Z
LAST-MODIFIED:20250702T041622Z
UID:6302-1755419400-1755423900@vedantabrisbane.org
SUMMARY:Physical Yoga Class - Sunday
DESCRIPTION:
URL:https://vedantabrisbane.org/event/physical-yoga-class-7/
LOCATION:Vedanta Centre Brisbane\, 96 Vedanta Drive\, Springfield Lakes\, QLD\, 4300\, Australia
END:VEVENT
BEGIN:VEVENT
DTSTART;TZID=UTC:20250816T180000
DTEND;TZID=UTC:20250816T200000
DTSTAMP:20260419T211606
CREATED:20250723T054912Z
LAST-MODIFIED:20250723T054912Z
UID:6355-1755367200-1755374400@vedantabrisbane.org
SUMMARY:Janmashtami Celebrations at Vedanta Centre\, Brisbane
DESCRIPTION:Let us come together to celebrate the divine birth of Sri Krishna in an evening filled with devotion and spiritual reflection. Date: 16th August 2025 Time: 6:00 PM – 8:00 PM Venue: Vedanta Centre\, BrisbaneProgramme Highlights: Worship to Sri Krishna & devotional singing Reading from the Life of Sri Krishna PrasadAll are warmly welcome to be part of this auspicious celebration. \nRSVP here : https://www.trybooking.com/DDPRU
URL:https://vedantabrisbane.org/event/janmashtami-celebrations-at-vedanta-centre-brisbane/
LOCATION:Vedanta Centre Brisbane\, 96 Vedanta Drive\, Springfield Lakes\, QLD\, 4300\, Australia
ATTACH;FMTTYPE=image/png:https://vedantabrisbane.org/wp-content/uploads/2025/07/Beige-and-Brown-Illustrative-Happy-Krishna-Janmashtami-Instagram-Post.png
END:VEVENT
BEGIN:VEVENT
DTSTART;TZID=UTC:20250816T100000
DTEND;TZID=UTC:20250816T130000
DTSTAMP:20260419T211606
CREATED:20250804T082700Z
LAST-MODIFIED:20250804T082700Z
UID:6388-1755338400-1755349200@vedantabrisbane.org
SUMMARY:Maa Sarada's Kitchen - Cafe
DESCRIPTION:
URL:https://vedantabrisbane.org/event/maa-saradas-kitchen-cafe-7/
LOCATION:Vedanta Centre Brisbane\, 96 Vedanta Drive\, Springfield Lakes\, QLD\, 4300\, Australia
END:VEVENT
BEGIN:VEVENT
DTSTART;TZID=UTC:20250815T090000
DTEND;TZID=UTC:20250815T130000
DTSTAMP:20260419T211606
CREATED:20250804T082224Z
LAST-MODIFIED:20250804T082224Z
UID:6378-1755248400-1755262800@vedantabrisbane.org
SUMMARY:Vedanta Soup Kitchen
DESCRIPTION:Free Food distribution
URL:https://vedantabrisbane.org/event/vedanta-soup-kitchen-7/
LOCATION:Vedanta Centre Brisbane\, 96 Vedanta Drive\, Springfield Lakes\, QLD\, 4300\, Australia
END:VEVENT
BEGIN:VEVENT
DTSTART;TZID=UTC:20250814T193000
DTEND;TZID=UTC:20250814T203000
DTSTAMP:20260419T211606
CREATED:20250811T080128Z
LAST-MODIFIED:20250811T080128Z
UID:6445-1755199800-1755203400@vedantabrisbane.org
SUMMARY:Class on Ashtavakra Gita
DESCRIPTION:
URL:https://vedantabrisbane.org/event/class-on-ashtavakra-gita-2/
LOCATION:101\, Sharpless Road\, Springfield\, 101\, Sharpless Road\, Springfield\, Springfields\, QLD\, 4300\, India
END:VEVENT
BEGIN:VEVENT
DTSTART;TZID=UTC:20250812T183000
DTEND;TZID=UTC:20250812T193000
DTSTAMP:20260419T211606
CREATED:20250811T075323Z
LAST-MODIFIED:20250811T075323Z
UID:6431-1755023400-1755027000@vedantabrisbane.org
SUMMARY:Physical Yoga Class
DESCRIPTION:
URL:https://vedantabrisbane.org/event/physical-yoga-class-11/
LOCATION:Vedanta Centre Brisbane\, 96 Vedanta Drive\, Springfield Lakes\, QLD\, 4300\, Australia
END:VEVENT
BEGIN:VEVENT
DTSTART;TZID=UTC:20250812T110000
DTEND;TZID=UTC:20250812T120000
DTSTAMP:20260419T211606
CREATED:20250811T074829Z
LAST-MODIFIED:20250811T074829Z
UID:6417-1754996400-1755000000@vedantabrisbane.org
SUMMARY:Study of Brahma Sutras
DESCRIPTION:
URL:https://vedantabrisbane.org/event/study-of-brahma-sutras-7/
LOCATION:Vedanta Centre Brisbane\, 96 Vedanta Drive\, Springfield Lakes\, QLD\, 4300\, Australia
END:VEVENT
BEGIN:VEVENT
DTSTART;TZID=UTC:20250810T100000
DTEND;TZID=UTC:20250810T110000
DTSTAMP:20260419T211606
CREATED:20250811T075944Z
LAST-MODIFIED:20250811T075944Z
UID:6443-1754820000-1754823600@vedantabrisbane.org
SUMMARY:Yoga for Kids (4 Weeks Course)
DESCRIPTION:
URL:https://vedantabrisbane.org/event/yoga-for-kids-4-weeks-course/
LOCATION:Vedanta Centre Brisbane\, 96 Vedanta Drive\, Springfield Lakes\, QLD\, 4300\, Australia
END:VEVENT
BEGIN:VEVENT
DTSTART;TZID=UTC:20250810T100000
DTEND;TZID=UTC:20250810T110000
DTSTAMP:20260419T211606
CREATED:20250811T074429Z
LAST-MODIFIED:20250811T074429Z
UID:6407-1754820000-1754823600@vedantabrisbane.org
SUMMARY:Study of Bhagavad Gita
DESCRIPTION:
URL:https://vedantabrisbane.org/event/study-of-bhagavad-gita-6/
LOCATION:Vedanta Centre Brisbane\, 96 Vedanta Drive\, Springfield Lakes\, QLD\, 4300\, Australia
END:VEVENT
BEGIN:VEVENT
DTSTART;TZID=UTC:20250810T083000
DTEND;TZID=UTC:20250810T094500
DTSTAMP:20260419T211606
CREATED:20250811T074014Z
LAST-MODIFIED:20250811T074259Z
UID:6403-1754814600-1754819100@vedantabrisbane.org
SUMMARY:Physical Yoga Class - Sunday
DESCRIPTION:
URL:https://vedantabrisbane.org/event/physical-yoga-class-sunday-3/
LOCATION:Vedanta Centre Brisbane\, 96 Vedanta Drive\, Springfield Lakes\, QLD\, 4300\, Australia
END:VEVENT
BEGIN:VEVENT
DTSTART;TZID=UTC:20250809T100000
DTEND;TZID=UTC:20250809T130000
DTSTAMP:20260419T211606
CREATED:20250804T082604Z
LAST-MODIFIED:20250804T082604Z
UID:6386-1754733600-1754744400@vedantabrisbane.org
SUMMARY:Maa Sarada's Kitchen - Cafe
DESCRIPTION:
URL:https://vedantabrisbane.org/event/maa-saradas-kitchen-cafe-6/
LOCATION:Vedanta Centre Brisbane\, 96 Vedanta Drive\, Springfield Lakes\, QLD\, 4300\, Australia
END:VEVENT
BEGIN:VEVENT
DTSTART;TZID=UTC:20250808T090000
DTEND;TZID=UTC:20250808T130000
DTSTAMP:20260419T211606
CREATED:20250804T082135Z
LAST-MODIFIED:20250804T082135Z
UID:6376-1754643600-1754658000@vedantabrisbane.org
SUMMARY:Vedanta Soup Kitchen
DESCRIPTION:Free Food distribution
URL:https://vedantabrisbane.org/event/vedanta-soup-kitchen-6/
LOCATION:Vedanta Centre Brisbane\, 96 Vedanta Drive\, Springfield Lakes\, QLD\, 4300\, Australia
END:VEVENT
BEGIN:VEVENT
DTSTART;TZID=UTC:20250806T183000
DTEND;TZID=UTC:20250806T193000
DTSTAMP:20260419T211606
CREATED:20250811T075801Z
LAST-MODIFIED:20250811T075801Z
UID:6441-1754505000-1754508600@vedantabrisbane.org
SUMMARY:Study of Viveka Chudamani in Toowoomba
DESCRIPTION:Toowoomba Library \n \n\n\n\nZoom Meeting ID: 878 2952 6965 \nPasscode: Vedanta22
URL:https://vedantabrisbane.org/event/study-of-viveka-chudamani-in-toowoomba-2/
LOCATION:QLD
END:VEVENT
BEGIN:VEVENT
DTSTART;TZID=UTC:20250805T190000
DTEND;TZID=UTC:20250805T194500
DTSTAMP:20260419T211606
CREATED:20250811T075548Z
LAST-MODIFIED:20250811T075548Z
UID:6437-1754420400-1754423100@vedantabrisbane.org
SUMMARY:Ekadashi Ramnam
DESCRIPTION:
URL:https://vedantabrisbane.org/event/ekadashi-ramnam-3/
LOCATION:Vedanta Centre Brisbane\, 96 Vedanta Drive\, Springfield Lakes\, QLD\, 4300\, Australia
END:VEVENT
BEGIN:VEVENT
DTSTART;TZID=UTC:20250805T183000
DTEND;TZID=UTC:20250805T193000
DTSTAMP:20260419T211606
CREATED:20250811T075317Z
LAST-MODIFIED:20250811T075317Z
UID:6428-1754418600-1754422200@vedantabrisbane.org
SUMMARY:Physical Yoga Class
DESCRIPTION:
URL:https://vedantabrisbane.org/event/physical-yoga-class-10/
LOCATION:Vedanta Centre Brisbane\, 96 Vedanta Drive\, Springfield Lakes\, QLD\, 4300\, Australia
END:VEVENT
BEGIN:VEVENT
DTSTART;TZID=UTC:20250805T110000
DTEND;TZID=UTC:20250805T120000
DTSTAMP:20260419T211606
CREATED:20250811T074818Z
LAST-MODIFIED:20250811T074818Z
UID:6418-1754391600-1754395200@vedantabrisbane.org
SUMMARY:Study of Brahma Sutras
DESCRIPTION:
URL:https://vedantabrisbane.org/event/study-of-brahma-sutras-6/
LOCATION:Vedanta Centre Brisbane\, 96 Vedanta Drive\, Springfield Lakes\, QLD\, 4300\, Australia
END:VEVENT
BEGIN:VEVENT
DTSTART;TZID=UTC:20250803T100000
DTEND;TZID=UTC:20250803T110000
DTSTAMP:20260419T211606
CREATED:20250811T074201Z
LAST-MODIFIED:20250811T074201Z
UID:6405-1754215200-1754218800@vedantabrisbane.org
SUMMARY:Study of Bhagavad Gita
DESCRIPTION:
URL:https://vedantabrisbane.org/event/study-of-bhagavad-gita-5/
LOCATION:Vedanta Centre Brisbane\, 96 Vedanta Drive\, Springfield Lakes\, QLD\, 4300\, Australia
END:VEVENT
BEGIN:VEVENT
DTSTART;TZID=UTC:20250803T083000
DTEND;TZID=UTC:20250803T094500
DTSTAMP:20260419T211606
CREATED:20250806T073300Z
LAST-MODIFIED:20250806T073300Z
UID:6400-1754209800-1754214300@vedantabrisbane.org
SUMMARY:Physical Yoga Class - Sunday
DESCRIPTION:
URL:https://vedantabrisbane.org/event/physical-yoga-class-sunday-2/
LOCATION:Vedanta Centre Brisbane\, 96 Vedanta Drive\, Springfield Lakes\, QLD\, 4300\, Australia
END:VEVENT
BEGIN:VEVENT
DTSTART;TZID=UTC:20250802T100000
DTEND;TZID=UTC:20250802T130000
DTSTAMP:20260419T211606
CREATED:20250804T082519Z
LAST-MODIFIED:20250804T082519Z
UID:6384-1754128800-1754139600@vedantabrisbane.org
SUMMARY:Maa Sarada's Kitchen - Cafe
DESCRIPTION:
URL:https://vedantabrisbane.org/event/maa-saradas-kitchen-cafe-5/
LOCATION:Vedanta Centre Brisbane\, 96 Vedanta Drive\, Springfield Lakes\, QLD\, 4300\, Australia
END:VEVENT
BEGIN:VEVENT
DTSTART;TZID=UTC:20250801T090000
DTEND;TZID=UTC:20250801T130000
DTSTAMP:20260419T211606
CREATED:20250804T082031Z
LAST-MODIFIED:20250804T082031Z
UID:6374-1754038800-1754053200@vedantabrisbane.org
SUMMARY:Vedanta Soup Kitchen
DESCRIPTION:Free Food distribution
URL:https://vedantabrisbane.org/event/vedanta-soup-kitchen-5/
LOCATION:Vedanta Centre Brisbane\, 96 Vedanta Drive\, Springfield Lakes\, QLD\, 4300\, Australia
END:VEVENT
BEGIN:VEVENT
DTSTART;TZID=UTC:20250729T183000
DTEND;TZID=UTC:20250729T193000
DTSTAMP:20260419T211606
CREATED:20250702T040000Z
LAST-MODIFIED:20250702T040000Z
UID:6288-1753813800-1753817400@vedantabrisbane.org
SUMMARY:Physical Yoga Class
DESCRIPTION:
URL:https://vedantabrisbane.org/event/physical-yoga-class-4/
LOCATION:Vedanta Centre Brisbane\, 96 Vedanta Drive\, Springfield Lakes\, QLD\, 4300\, Australia
END:VEVENT
BEGIN:VEVENT
DTSTART;TZID=UTC:20250729T110000
DTEND;TZID=UTC:20250729T120000
DTSTAMP:20260419T211606
CREATED:20250701T233905Z
LAST-MODIFIED:20250701T233905Z
UID:6281-1753786800-1753790400@vedantabrisbane.org
SUMMARY:Study of Brahma Sutras
DESCRIPTION:
URL:https://vedantabrisbane.org/event/study-of-brahma-sutras-5/
LOCATION:Vedanta Centre Brisbane\, 96 Vedanta Drive\, Springfield Lakes\, QLD\, 4300\, Australia
END:VEVENT
BEGIN:VEVENT
DTSTART;TZID=UTC:20250727T113000
DTEND;TZID=UTC:20250727T133000
DTSTAMP:20260419T211606
CREATED:20250702T045420Z
LAST-MODIFIED:20250702T075452Z
UID:6350-1753615800-1753623000@vedantabrisbane.org
SUMMARY:Prayer Meeting & Langar (free meals)
DESCRIPTION:
URL:https://vedantabrisbane.org/event/prayer-meeting-langar-free-meals/
LOCATION:Vedanta Centre Brisbane\, 96 Vedanta Drive\, Springfield Lakes\, QLD\, 4300\, Australia
END:VEVENT
BEGIN:VEVENT
DTSTART;TZID=UTC:20250727T100000
DTEND;TZID=UTC:20250727T110000
DTSTAMP:20260419T211606
CREATED:20250702T044113Z
LAST-MODIFIED:20250702T044113Z
UID:6334-1753610400-1753614000@vedantabrisbane.org
SUMMARY:Study of Bhagavad Gita
DESCRIPTION:
URL:https://vedantabrisbane.org/event/study-of-bhagavad-gita-4/
LOCATION:Vedanta Centre Brisbane\, 96 Vedanta Drive\, Springfield Lakes\, QLD\, 4300\, Australia
END:VEVENT
BEGIN:VEVENT
DTSTART;TZID=UTC:20250727T083000
DTEND;TZID=UTC:20250727T094500
DTSTAMP:20260419T211606
CREATED:20250702T041457Z
LAST-MODIFIED:20250702T041457Z
UID:6303-1753605000-1753609500@vedantabrisbane.org
SUMMARY:Physical Yoga Class
DESCRIPTION:
URL:https://vedantabrisbane.org/event/physical-yoga-class-6/
LOCATION:Vedanta Centre Brisbane\, 96 Vedanta Drive\, Springfield Lakes\, QLD\, 4300\, Australia
END:VEVENT
BEGIN:VEVENT
DTSTART;TZID=UTC:20250726T173000
DTEND;TZID=UTC:20250726T183000
DTSTAMP:20260419T211606
CREATED:20250702T045304Z
LAST-MODIFIED:20250702T045304Z
UID:6348-1753551000-1753554600@vedantabrisbane.org
SUMMARY:Class on the Bhagavad Gita (hosted by Vedanta Gold Coast Satsang online)
DESCRIPTION:Zoom Meeting ID: 850 4370 0739\n\n\nPasscode:- vedanta20
URL:https://vedantabrisbane.org/event/class-on-the-bhagavad-gita-hosted-by-vedanta-gold-coast-satsang-online/
LOCATION:QLD
END:VEVENT
BEGIN:VEVENT
DTSTART;TZID=UTC:20250726T100000
DTEND;TZID=UTC:20250726T130000
DTSTAMP:20260419T211606
CREATED:20250702T043603Z
LAST-MODIFIED:20250702T043603Z
UID:6325-1753524000-1753534800@vedantabrisbane.org
SUMMARY:Maa Sarada's Kitchen - Cafe
DESCRIPTION:
URL:https://vedantabrisbane.org/event/maa-saradas-kitchen-cafe-4/
LOCATION:Vedanta Centre Brisbane\, 96 Vedanta Drive\, Springfield Lakes\, QLD\, 4300\, Australia
END:VEVENT
BEGIN:VEVENT
DTSTART;TZID=UTC:20250725T090000
DTEND;TZID=UTC:20250725T130000
DTSTAMP:20260419T211606
CREATED:20250702T042738Z
LAST-MODIFIED:20250702T042738Z
UID:6317-1753434000-1753448400@vedantabrisbane.org
SUMMARY:Vedanta Soup Kitchen
DESCRIPTION:Free Food distribution
URL:https://vedantabrisbane.org/event/vedanta-soup-kitchen-4/
LOCATION:Vedanta Centre Brisbane\, 96 Vedanta Drive\, Springfield Lakes\, QLD\, 4300\, Australia
END:VEVENT
BEGIN:VEVENT
DTSTART;TZID=UTC:20250724T193000
DTEND;TZID=UTC:20250724T203000
DTSTAMP:20260419T211606
CREATED:20250702T045126Z
LAST-MODIFIED:20250702T045126Z
UID:6346-1753385400-1753389000@vedantabrisbane.org
SUMMARY:Class on Vivekachudamani (Hosted by Shakti Global Online)
DESCRIPTION:Zoom Meeting ID: 863 2896 7686\n\n\nPasscode: Shakti
URL:https://vedantabrisbane.org/event/class-on-vivekachudamani-hosted-by-shakti-global-online/
LOCATION:QLD
END:VEVENT
END:VCALENDAR