BEGIN:VCALENDAR
VERSION:2.0
PRODID:-//Vedanta Brisbane - ECPv6.12.0//NONSGML v1.0//EN
CALSCALE:GREGORIAN
METHOD:PUBLISH
X-ORIGINAL-URL:https://vedantabrisbane.org
X-WR-CALDESC:Events for Vedanta Brisbane
REFRESH-INTERVAL;VALUE=DURATION:PT1H
X-Robots-Tag:noindex
X-PUBLISHED-TTL:PT1H
BEGIN:VTIMEZONE
TZID:UTC
BEGIN:STANDARD
TZOFFSETFROM:+0000
TZOFFSETTO:+0000
TZNAME:UTC
DTSTART:20250101T000000
END:STANDARD
END:VTIMEZONE
BEGIN:VEVENT
DTSTART;TZID=UTC:20250903T183000
DTEND;TZID=UTC:20250903T193000
DTSTAMP:20260419T185219
CREATED:20250915T060803Z
LAST-MODIFIED:20250915T060803Z
UID:6547-1756924200-1756927800@vedantabrisbane.org
SUMMARY:Study of Viveka Chudamani in Toowoomba
DESCRIPTION:Toowoomba Library \n \n\n\n\nZoom Meeting ID: 878 2952 6965 \nPasscode: Vedanta22
URL:https://vedantabrisbane.org/event/study-of-viveka-chudamani-in-toowoomba-3/
LOCATION:QLD
END:VEVENT
BEGIN:VEVENT
DTSTART;TZID=UTC:20250902T183000
DTEND;TZID=UTC:20250902T193000
DTSTAMP:20260419T185219
CREATED:20250915T054045Z
LAST-MODIFIED:20250915T054045Z
UID:6515-1756837800-1756841400@vedantabrisbane.org
SUMMARY:Physical Yoga Class - Tuesday
DESCRIPTION:
URL:https://vedantabrisbane.org/event/physical-yoga-class-tuesday-4/
LOCATION:Vedanta Centre Brisbane\, 96 Vedanta Drive\, Springfield Lakes\, QLD\, 4300\, Australia
END:VEVENT
BEGIN:VEVENT
DTSTART;TZID=UTC:20250902T110000
DTEND;TZID=UTC:20250902T120000
DTSTAMP:20260419T185219
CREATED:20250915T054233Z
LAST-MODIFIED:20250915T054233Z
UID:6427-1756810800-1756814400@vedantabrisbane.org
SUMMARY:Study of Brahma Sutras
DESCRIPTION:
URL:https://vedantabrisbane.org/event/study-of-brahma-sutras-12/
LOCATION:Vedanta Centre Brisbane\, 96 Vedanta Drive\, Springfield Lakes\, QLD\, 4300\, Australia
END:VEVENT
BEGIN:VEVENT
DTSTART;TZID=UTC:20250831T100000
DTEND;TZID=UTC:20250831T110000
DTSTAMP:20260419T185219
CREATED:20250811T080357Z
LAST-MODIFIED:20250811T080357Z
UID:6449-1756634400-1756638000@vedantabrisbane.org
SUMMARY:Yoga for Kids (4 Weeks Course)
DESCRIPTION:
URL:https://vedantabrisbane.org/event/yoga-for-kids-4-weeks-course-4/
LOCATION:Vedanta Centre Brisbane\, 96 Vedanta Drive\, Springfield Lakes\, QLD\, 4300\, Australia
END:VEVENT
BEGIN:VEVENT
DTSTART;TZID=UTC:20250831T100000
DTEND;TZID=UTC:20250831T110000
DTSTAMP:20260419T185219
CREATED:20250811T074450Z
LAST-MODIFIED:20250811T074450Z
UID:6410-1756634400-1756638000@vedantabrisbane.org
SUMMARY:Study of Bhagavad Gita
DESCRIPTION:
URL:https://vedantabrisbane.org/event/study-of-bhagavad-gita-7/
LOCATION:Vedanta Centre Brisbane\, 96 Vedanta Drive\, Springfield Lakes\, QLD\, 4300\, Australia
END:VEVENT
BEGIN:VEVENT
DTSTART;TZID=UTC:20250831T083000
DTEND;TZID=UTC:20250831T094500
DTSTAMP:20260419T185219
CREATED:20250811T074601Z
LAST-MODIFIED:20250811T074601Z
UID:6413-1756629000-1756633500@vedantabrisbane.org
SUMMARY:Physical Yoga Class - Sunday
DESCRIPTION:
URL:https://vedantabrisbane.org/event/physical-yoga-class-sunday-4/
LOCATION:Vedanta Centre Brisbane\, 96 Vedanta Drive\, Springfield Lakes\, QLD\, 4300\, Australia
END:VEVENT
BEGIN:VEVENT
DTSTART;TZID=UTC:20250830T173000
DTEND;TZID=UTC:20250830T183000
DTSTAMP:20260419T185219
CREATED:20250811T080738Z
LAST-MODIFIED:20250811T080738Z
UID:6454-1756575000-1756578600@vedantabrisbane.org
SUMMARY:Class on the Bhagavad Gita (hosted by Vedanta Gold Coast Satsang online)
DESCRIPTION:Zoom Meeting ID: 850 4370 0739\n\n\nPasscode:- vedanta20
URL:https://vedantabrisbane.org/event/class-on-the-bhagavad-gita-hosted-by-vedanta-gold-coast-satsang-online-2/
LOCATION:QLD
END:VEVENT
BEGIN:VEVENT
DTSTART;TZID=UTC:20250830T100000
DTEND;TZID=UTC:20250830T130000
DTSTAMP:20260419T185219
CREATED:20250804T082806Z
LAST-MODIFIED:20250804T082806Z
UID:6392-1756548000-1756558800@vedantabrisbane.org
SUMMARY:Maa Sarada's Kitchen - Cafe
DESCRIPTION:
URL:https://vedantabrisbane.org/event/maa-saradas-kitchen-cafe-9/
LOCATION:Vedanta Centre Brisbane\, 96 Vedanta Drive\, Springfield Lakes\, QLD\, 4300\, Australia
END:VEVENT
BEGIN:VEVENT
DTSTART;TZID=UTC:20250829T090000
DTEND;TZID=UTC:20250829T130000
DTSTAMP:20260419T185219
CREATED:20250804T082405Z
LAST-MODIFIED:20250804T082405Z
UID:6382-1756458000-1756472400@vedantabrisbane.org
SUMMARY:Vedanta Soup Kitchen
DESCRIPTION:Free Food distribution
URL:https://vedantabrisbane.org/event/vedanta-soup-kitchen-9/
LOCATION:Vedanta Centre Brisbane\, 96 Vedanta Drive\, Springfield Lakes\, QLD\, 4300\, Australia
END:VEVENT
BEGIN:VEVENT
DTSTART;TZID=UTC:20250828T193000
DTEND;TZID=UTC:20250828T203000
DTSTAMP:20260419T185219
CREATED:20250811T080526Z
LAST-MODIFIED:20250811T080526Z
UID:6440-1756409400-1756413000@vedantabrisbane.org
SUMMARY:Class on Vivekachudamani (Hosted by Shakti Global Online)
DESCRIPTION:Zoom Meeting ID: 863 2896 7686\n\n\nPasscode: Shakti
URL:https://vedantabrisbane.org/event/class-on-vivekachudamani-hosted-by-shakti-global-online-2/
LOCATION:QLD
END:VEVENT
BEGIN:VEVENT
DTSTART;TZID=UTC:20250826T183000
DTEND;TZID=UTC:20250826T193000
DTSTAMP:20260419T185219
CREATED:20250811T075335Z
LAST-MODIFIED:20250811T075335Z
UID:6429-1756233000-1756236600@vedantabrisbane.org
SUMMARY:Physical Yoga Class
DESCRIPTION:
URL:https://vedantabrisbane.org/event/physical-yoga-class-13/
LOCATION:Vedanta Centre Brisbane\, 96 Vedanta Drive\, Springfield Lakes\, QLD\, 4300\, Australia
END:VEVENT
BEGIN:VEVENT
DTSTART;TZID=UTC:20250826T110000
DTEND;TZID=UTC:20250826T120000
DTSTAMP:20260419T185219
CREATED:20250811T074903Z
LAST-MODIFIED:20250811T074903Z
UID:6415-1756206000-1756209600@vedantabrisbane.org
SUMMARY:Study of Brahma Sutras
DESCRIPTION:
URL:https://vedantabrisbane.org/event/study-of-brahma-sutras-9/
LOCATION:Vedanta Centre Brisbane\, 96 Vedanta Drive\, Springfield Lakes\, QLD\, 4300\, Australia
END:VEVENT
BEGIN:VEVENT
DTSTART;TZID=UTC:20250824T103000
DTEND;TZID=UTC:20250824T123000
DTSTAMP:20260419T185219
CREATED:20250723T060129Z
LAST-MODIFIED:20250723T060129Z
UID:6361-1756031400-1756038600@vedantabrisbane.org
SUMMARY:Sitar concert by Jyoti Thakar
DESCRIPTION:Join us for a serene and uplifting morning of music\, reflection\, and devotion. Date: Sunday\, 24th August 2025 Time: 10:30 AM – 12:30 PM Venue: Vedanta Centre\, BrisbaneProgramme: Sitar Concert by Smt. Jyoti Thakar Inspiring Talks Arati followed by PrasadAll are welcome to attend this soulful gathering.RSVP here: https://www.trybooking.com/DDPTL
URL:https://vedantabrisbane.org/event/sitar-concert-by-jyoti-thakar/
LOCATION:Vedanta Centre Brisbane\, 96 Vedanta Drive\, Springfield Lakes\, QLD\, 4300\, Australia
ATTACH;FMTTYPE=image/png:https://vedantabrisbane.org/wp-content/uploads/2025/07/Monthly-Satsang-Aug-.png
END:VEVENT
BEGIN:VEVENT
DTSTART;TZID=UTC:20250824T100000
DTEND;TZID=UTC:20250824T110000
DTSTAMP:20260419T185219
CREATED:20250811T080350Z
LAST-MODIFIED:20250811T080350Z
UID:6447-1756029600-1756033200@vedantabrisbane.org
SUMMARY:Yoga for Kids (4 Weeks Course)
DESCRIPTION:
URL:https://vedantabrisbane.org/event/yoga-for-kids-4-weeks-course-3/
LOCATION:Vedanta Centre Brisbane\, 96 Vedanta Drive\, Springfield Lakes\, QLD\, 4300\, Australia
END:VEVENT
BEGIN:VEVENT
DTSTART;TZID=UTC:20250824T083000
DTEND;TZID=UTC:20250824T094500
DTSTAMP:20260419T185219
CREATED:20250702T041559Z
LAST-MODIFIED:20250702T041658Z
UID:6301-1756024200-1756028700@vedantabrisbane.org
SUMMARY:Physical Yoga Class - Sunday
DESCRIPTION:
URL:https://vedantabrisbane.org/event/physical-yoga-class-sunday/
LOCATION:Vedanta Centre Brisbane\, 96 Vedanta Drive\, Springfield Lakes\, QLD\, 4300\, Australia
END:VEVENT
BEGIN:VEVENT
DTSTART;TZID=UTC:20250823T100000
DTEND;TZID=UTC:20250823T130000
DTSTAMP:20260419T185219
CREATED:20250804T082735Z
LAST-MODIFIED:20250804T082735Z
UID:6390-1755943200-1755954000@vedantabrisbane.org
SUMMARY:Maa Sarada's Kitchen - Cafe
DESCRIPTION:
URL:https://vedantabrisbane.org/event/maa-saradas-kitchen-cafe-8/
LOCATION:Vedanta Centre Brisbane\, 96 Vedanta Drive\, Springfield Lakes\, QLD\, 4300\, Australia
END:VEVENT
BEGIN:VEVENT
DTSTART;TZID=UTC:20250822T090000
DTEND;TZID=UTC:20250822T130000
DTSTAMP:20260419T185219
CREATED:20250804T082312Z
LAST-MODIFIED:20250804T082312Z
UID:6380-1755853200-1755867600@vedantabrisbane.org
SUMMARY:Vedanta Soup Kitchen
DESCRIPTION:Free Food distribution
URL:https://vedantabrisbane.org/event/vedanta-soup-kitchen-8/
LOCATION:Vedanta Centre Brisbane\, 96 Vedanta Drive\, Springfield Lakes\, QLD\, 4300\, Australia
END:VEVENT
BEGIN:VEVENT
DTSTART;TZID=UTC:20250819T190000
DTEND;TZID=UTC:20250819T194500
DTSTAMP:20260419T185219
CREATED:20250811T075558Z
LAST-MODIFIED:20250811T075558Z
UID:6436-1755630000-1755632700@vedantabrisbane.org
SUMMARY:Ekadashi Ramnam
DESCRIPTION:
URL:https://vedantabrisbane.org/event/ekadashi-ramnam-4/
LOCATION:Vedanta Centre Brisbane\, 96 Vedanta Drive\, Springfield Lakes\, QLD\, 4300\, Australia
END:VEVENT
BEGIN:VEVENT
DTSTART;TZID=UTC:20250819T183000
DTEND;TZID=UTC:20250819T193000
DTSTAMP:20260419T185219
CREATED:20250811T075329Z
LAST-MODIFIED:20250811T075329Z
UID:6430-1755628200-1755631800@vedantabrisbane.org
SUMMARY:Physical Yoga Class
DESCRIPTION:
URL:https://vedantabrisbane.org/event/physical-yoga-class-12/
LOCATION:Vedanta Centre Brisbane\, 96 Vedanta Drive\, Springfield Lakes\, QLD\, 4300\, Australia
END:VEVENT
BEGIN:VEVENT
DTSTART;TZID=UTC:20250819T110000
DTEND;TZID=UTC:20250819T120000
DTSTAMP:20260419T185219
CREATED:20250811T074834Z
LAST-MODIFIED:20250811T074834Z
UID:6416-1755601200-1755604800@vedantabrisbane.org
SUMMARY:Study of Brahma Sutras
DESCRIPTION:
URL:https://vedantabrisbane.org/event/study-of-brahma-sutras-8/
LOCATION:Vedanta Centre Brisbane\, 96 Vedanta Drive\, Springfield Lakes\, QLD\, 4300\, Australia
END:VEVENT
BEGIN:VEVENT
DTSTART;TZID=UTC:20250817T100000
DTEND;TZID=UTC:20250817T110000
DTSTAMP:20260419T185219
CREATED:20250811T080342Z
LAST-MODIFIED:20250811T080342Z
UID:6448-1755424800-1755428400@vedantabrisbane.org
SUMMARY:Yoga for Kids (4 Weeks Course)
DESCRIPTION:
URL:https://vedantabrisbane.org/event/yoga-for-kids-4-weeks-course-2/
LOCATION:Vedanta Centre Brisbane\, 96 Vedanta Drive\, Springfield Lakes\, QLD\, 4300\, Australia
END:VEVENT
BEGIN:VEVENT
DTSTART;TZID=UTC:20250817T083000
DTEND;TZID=UTC:20250817T094500
DTSTAMP:20260419T185219
CREATED:20250702T041509Z
LAST-MODIFIED:20250702T041622Z
UID:6302-1755419400-1755423900@vedantabrisbane.org
SUMMARY:Physical Yoga Class - Sunday
DESCRIPTION:
URL:https://vedantabrisbane.org/event/physical-yoga-class-7/
LOCATION:Vedanta Centre Brisbane\, 96 Vedanta Drive\, Springfield Lakes\, QLD\, 4300\, Australia
END:VEVENT
BEGIN:VEVENT
DTSTART;TZID=UTC:20250816T180000
DTEND;TZID=UTC:20250816T200000
DTSTAMP:20260419T185219
CREATED:20250723T054912Z
LAST-MODIFIED:20250723T054912Z
UID:6355-1755367200-1755374400@vedantabrisbane.org
SUMMARY:Janmashtami Celebrations at Vedanta Centre\, Brisbane
DESCRIPTION:Let us come together to celebrate the divine birth of Sri Krishna in an evening filled with devotion and spiritual reflection. Date: 16th August 2025 Time: 6:00 PM – 8:00 PM Venue: Vedanta Centre\, BrisbaneProgramme Highlights: Worship to Sri Krishna & devotional singing Reading from the Life of Sri Krishna PrasadAll are warmly welcome to be part of this auspicious celebration. \nRSVP here : https://www.trybooking.com/DDPRU
URL:https://vedantabrisbane.org/event/janmashtami-celebrations-at-vedanta-centre-brisbane/
LOCATION:Vedanta Centre Brisbane\, 96 Vedanta Drive\, Springfield Lakes\, QLD\, 4300\, Australia
ATTACH;FMTTYPE=image/png:https://vedantabrisbane.org/wp-content/uploads/2025/07/Beige-and-Brown-Illustrative-Happy-Krishna-Janmashtami-Instagram-Post.png
END:VEVENT
BEGIN:VEVENT
DTSTART;TZID=UTC:20250816T100000
DTEND;TZID=UTC:20250816T130000
DTSTAMP:20260419T185219
CREATED:20250804T082700Z
LAST-MODIFIED:20250804T082700Z
UID:6388-1755338400-1755349200@vedantabrisbane.org
SUMMARY:Maa Sarada's Kitchen - Cafe
DESCRIPTION:
URL:https://vedantabrisbane.org/event/maa-saradas-kitchen-cafe-7/
LOCATION:Vedanta Centre Brisbane\, 96 Vedanta Drive\, Springfield Lakes\, QLD\, 4300\, Australia
END:VEVENT
BEGIN:VEVENT
DTSTART;TZID=UTC:20250815T090000
DTEND;TZID=UTC:20250815T130000
DTSTAMP:20260419T185219
CREATED:20250804T082224Z
LAST-MODIFIED:20250804T082224Z
UID:6378-1755248400-1755262800@vedantabrisbane.org
SUMMARY:Vedanta Soup Kitchen
DESCRIPTION:Free Food distribution
URL:https://vedantabrisbane.org/event/vedanta-soup-kitchen-7/
LOCATION:Vedanta Centre Brisbane\, 96 Vedanta Drive\, Springfield Lakes\, QLD\, 4300\, Australia
END:VEVENT
BEGIN:VEVENT
DTSTART;TZID=UTC:20250814T193000
DTEND;TZID=UTC:20250814T203000
DTSTAMP:20260419T185219
CREATED:20250811T080128Z
LAST-MODIFIED:20250811T080128Z
UID:6445-1755199800-1755203400@vedantabrisbane.org
SUMMARY:Class on Ashtavakra Gita
DESCRIPTION:
URL:https://vedantabrisbane.org/event/class-on-ashtavakra-gita-2/
LOCATION:101\, Sharpless Road\, Springfield\, 101\, Sharpless Road\, Springfield\, Springfields\, QLD\, 4300\, India
END:VEVENT
BEGIN:VEVENT
DTSTART;TZID=UTC:20250812T183000
DTEND;TZID=UTC:20250812T193000
DTSTAMP:20260419T185219
CREATED:20250811T075323Z
LAST-MODIFIED:20250811T075323Z
UID:6431-1755023400-1755027000@vedantabrisbane.org
SUMMARY:Physical Yoga Class
DESCRIPTION:
URL:https://vedantabrisbane.org/event/physical-yoga-class-11/
LOCATION:Vedanta Centre Brisbane\, 96 Vedanta Drive\, Springfield Lakes\, QLD\, 4300\, Australia
END:VEVENT
BEGIN:VEVENT
DTSTART;TZID=UTC:20250812T110000
DTEND;TZID=UTC:20250812T120000
DTSTAMP:20260419T185219
CREATED:20250811T074829Z
LAST-MODIFIED:20250811T074829Z
UID:6417-1754996400-1755000000@vedantabrisbane.org
SUMMARY:Study of Brahma Sutras
DESCRIPTION:
URL:https://vedantabrisbane.org/event/study-of-brahma-sutras-7/
LOCATION:Vedanta Centre Brisbane\, 96 Vedanta Drive\, Springfield Lakes\, QLD\, 4300\, Australia
END:VEVENT
BEGIN:VEVENT
DTSTART;TZID=UTC:20250810T100000
DTEND;TZID=UTC:20250810T110000
DTSTAMP:20260419T185219
CREATED:20250811T075944Z
LAST-MODIFIED:20250811T075944Z
UID:6443-1754820000-1754823600@vedantabrisbane.org
SUMMARY:Yoga for Kids (4 Weeks Course)
DESCRIPTION:
URL:https://vedantabrisbane.org/event/yoga-for-kids-4-weeks-course/
LOCATION:Vedanta Centre Brisbane\, 96 Vedanta Drive\, Springfield Lakes\, QLD\, 4300\, Australia
END:VEVENT
BEGIN:VEVENT
DTSTART;TZID=UTC:20250810T100000
DTEND;TZID=UTC:20250810T110000
DTSTAMP:20260419T185219
CREATED:20250811T074429Z
LAST-MODIFIED:20250811T074429Z
UID:6407-1754820000-1754823600@vedantabrisbane.org
SUMMARY:Study of Bhagavad Gita
DESCRIPTION:
URL:https://vedantabrisbane.org/event/study-of-bhagavad-gita-6/
LOCATION:Vedanta Centre Brisbane\, 96 Vedanta Drive\, Springfield Lakes\, QLD\, 4300\, Australia
END:VEVENT
END:VCALENDAR