BEGIN:VCALENDAR
VERSION:2.0
PRODID:-//Vedanta Brisbane - ECPv6.12.0//NONSGML v1.0//EN
CALSCALE:GREGORIAN
METHOD:PUBLISH
X-WR-CALNAME:Vedanta Brisbane
X-ORIGINAL-URL:https://vedantabrisbane.org
X-WR-CALDESC:Events for Vedanta Brisbane
REFRESH-INTERVAL;VALUE=DURATION:PT1H
X-Robots-Tag:noindex
X-PUBLISHED-TTL:PT1H
BEGIN:VTIMEZONE
TZID:UTC
BEGIN:STANDARD
TZOFFSETFROM:+0000
TZOFFSETTO:+0000
TZNAME:UTC
DTSTART:20250101T000000
END:STANDARD
END:VTIMEZONE
BEGIN:VEVENT
DTSTART;TZID=UTC:20251101T100000
DTEND;TZID=UTC:20251101T130000
DTSTAMP:20260419T150843
CREATED:20251105T081816Z
LAST-MODIFIED:20251105T081816Z
UID:6602-1761991200-1762002000@vedantabrisbane.org
SUMMARY:Maa Sarada's Kitchen - Cafe
DESCRIPTION:« All Events\n 				\n				\n					\n		\n					\n		\n				\n						\n					\n			\n						\n				\n					\n	\n		\n\n	\n	Add to calendar	\n		\n	\n\n		\n			\n									\n	Google Calendar\n\n									\n	iCalendar\n\n									\n	Outlook 365\n\n									\n	Outlook Live\n\n							\n		\n\n		\n	\n\n				\n				\n					\n		\n					\n		\n				\n						\n					\n			\n						\n				\n					\n	\n		\n\n				Physical Yoga Class - Tuesday	\n\n\n		\n	\n		A Magical Violin Concert by Ganga Sasidharan (Fundraiser for Vedanta Centre Brisbane)
URL:https://vedantabrisbane.org/event/maa-saradas-kitchen-cafe-14/
LOCATION:Vedanta Centre Brisbane\, 96 Vedanta Drive\, Springfield Lakes\, QLD\, 4300\, Australia
END:VEVENT
END:VCALENDAR