BEGIN:VCALENDAR
VERSION:2.0
PRODID:-//Vedanta Brisbane - ECPv6.12.0//NONSGML v1.0//EN
CALSCALE:GREGORIAN
METHOD:PUBLISH
X-WR-CALNAME:Vedanta Brisbane
X-ORIGINAL-URL:https://vedantabrisbane.org
X-WR-CALDESC:Events for Vedanta Brisbane
REFRESH-INTERVAL;VALUE=DURATION:PT1H
X-Robots-Tag:noindex
X-PUBLISHED-TTL:PT1H
BEGIN:VTIMEZONE
TZID:UTC
BEGIN:STANDARD
TZOFFSETFROM:+0000
TZOFFSETTO:+0000
TZNAME:UTC
DTSTART:20250101T000000
END:STANDARD
END:VTIMEZONE
BEGIN:VEVENT
DTSTART;TZID=UTC:20250913T100000
DTEND;TZID=UTC:20250913T130000
DTSTAMP:20260419T184212
CREATED:20250915T053706Z
LAST-MODIFIED:20250915T053732Z
UID:6396-1757757600-1757768400@vedantabrisbane.org
SUMMARY:Maa Sarada's Kitchen - Cafe
DESCRIPTION:« All Events\n 				\n				\n					\n		\n					\n		\n				\n						\n					\n			\n						\n				\n					\n	\n		\n\n	\n	Add to calendar	\n		\n	\n\n		\n			\n									\n	Google Calendar\n\n									\n	iCalendar\n\n									\n	Outlook 365\n\n									\n	Outlook Live\n\n							\n		\n\n		\n	\n\n				\n				\n					\n		\n					\n		\n				\n						\n					\n			\n						\n				\n					\n	\n		\n\n				Class on Ashtavakra Gita	\n\n\n		\n	\n		Physical Yoga Class - Sunday
URL:https://vedantabrisbane.org/event/maa-saradas-kitchen-cafe-10/
LOCATION:Vedanta Centre Brisbane\, 96 Vedanta Drive\, Springfield Lakes\, QLD\, 4300\, Australia
END:VEVENT
END:VCALENDAR